Workbook

Sheet EDA SHEET
A1: RED-WHITE VALVE CORP.
A2: EXTENDED DISCOUNT AGREEMENT - CUSTOMER / PRICE AGREEMENT
A3: Company | B3: Falls Plumbing | C3: Request Date | D3: 46268
A4: Sold to address | B4: Idaho Falls | C4: Price File as of | D4: =VLOOKUP(C4,[1]sheet1!$D$1:$E$1,2,FALSE) -> 46174
A5: City/ St/ Zip | C5: Supercedes | D5: =VLOOKUP(C5,[1]sheet1!$F$1:$G$1,2,FALSE) -> 46054
A6: Phone/ Fax/ Contact | C6: Default Multiplier | D6: 0.347
A7: Ship to address | C7: Buying Group | D7: AD
A8: City/ St/ Zip | C8: Branches | D8: 2
A9: Phone/ Fax/ Contact | C9: OEM
A10: Description- Fig. No. by Product Line. Low lead valves use AB suffix | C10: Product Line | D10: MULTIPLIER
A11: Lead Free Balancing valve- 9517AB ,9519AB, 9527AB, 9529AB | C11: ABBV | D11: =D6 -> 0.347 | E11: Deviation from Default in BOLD RED - Special Net Pricing in BOLD YELLOW
A12: Ball valve- 5044AB/5049AB, 5060AB/5063AB, 5065AB, 5325AB | C12: ABCI | D12: =D6 -> 0.347
A13: Check valve- 232AB/233AB/234AB/244AB, 236AB/237AB, 246AB/247AB | C13: ABCK | D13: =D6 -> 0.347
A14: Ball valve with EzPress connection- 5020AB, 5020ABS, 5020ABD, 5020ABX, 5070AB, 5520AB, 5520ABX, RW-320AB | C14: ABEZ | D14: =D6 -> 0.347
A15: Gate valve- 206AB/207AB, 267AB/268AB | C15: ABGA | D15: 0.313
A16: 8000 Series - 8000,8020,8040,8050,8060,8070,8080 | C16: ABHV | D16: =D6 -> 0.347
A17: Mini ball valve- 5081AB, 5082AB, 5083AB, 5084AB | C17: ABMN | D17: =D6 -> 0.347
A18: Ball valve- 5592AB/5595AB, 5592ABW/5595ABW, 5592ABWNS | C18: ABNC | D18: =D6 -> 0.347
A19: Ball valve PEX F1960 connection- 5014AB, 5015AB, 5015ABF, 5015ABDF, 5016AB, 5017AB, 5018AB,5019AB | C19: ABP2 | D19: =D6 -> 0.347
A20: Ball valve AB PEX EVERLOC+ connection- 5414AB, 5415AB, 5415ABW, 5416AB, 5417AB, 5418AB , 5416ABW, 5417ABW, 5418ABW | C20: ABPE | D20: =D6 -> 0.347
A21: Ball valve with pump flange connection- 2417AB, 2419AB, 2412ABHV thru 2425ABHV | C21: ABPF | D21: =D6 -> 0.347
A22: PPR ball valve- 500AB, 509AB, 515AB, 501AB, 510AB, 516AB, 501PAB, 510PAB, 516PAB | C22: ABPP | D22: =D6 -> 0.347
A23: Ball valve PEX F1807 connection- 5004AB, 5006AB, 5007AB, 5008AB, 5009AB, 5009ABD, 5009ABF, RW-316AB, RW-516AB, RW-316ABF, RW-516ABF | C23: ABPX | D23: =D6 -> 0.347
A24: Ball valve- 5544AB/5549AB, 5544ABS, 5586AB | C24: ABRP | D24: 0.313
A25: Lead Free Plumbing valve- RW-315AB, RW-301AB, RW-516AB, RW-504AB, RW-505AB, RW-213AB, RW-223AB, RW-252AB, RW-272AB, RW-316AB | C25: ABRW | D25: =D6 -> 0.347
A26: Super Kit- 350R2-xx, 352R2-xx, 353R2-xx | C26: ABSK | D26: =D6 -> 0.347
A27: Strainer- 380AB, 387AB | C27: ABST | D27: =D6 -> 0.347
A28: Thermostatic Balancing - 9960ABT | C28: ABTB | D28: =D6 -> 0.347
A29: Tankless water heater valve kit- 3400AB, 3420AB, 3430AB, 3450AB, 3400 Series, 3300 Series | C29: ABTW | D29: 0.174
A30: Actuated Ball valve- 5930 | C30: ACBV | D30: =D6 -> 0.347
A31: Gate valve- 267/268, 267CH | C31: AVGA | D31: =D6 -> 0.347
A32: Valves used in Coil Kits- 92HS, 92MU, 92UN, 92ST, 92SP, 92STC, 92SSC, 92UDT, 92UBT, 241DV, 9390N, 92SS, 92UBP, 92UBS, 92UDS, 92UDP,95MV,92N,92T | C32: BALK | D32: =D6 -> 0.347
A33: Balancing valve- 9407,9450,9517,9519,9574P,9907,9957W,9707, 95INSL,99INSL, T550 | C33: BALV | D33: =D6 -> 0.347
A34: Butterfly valve- All 937/938 Series | C34: BFLY | D34: =D6 -> 0.347
A35: Butterfly Actuator - All Electric and Pneumatic - Cutter, Cutter MOD, Hovercraft | C35: BFAT | D35: =D6 -> 0.347
A36: Ball valve- 5044F/5049F, 5042, 5045, 5060/5063, 5065, 5090, 5080B, 5080BSS | C36: BVCI | D36: =D6 -> 0.347
A37: Ball valve- 5592F/5595F | C37: BVNC | D37: =D6 -> 0.347
A38: Ball valve with pump flange connection- 2412, 2415, 2417, 2419, 2420F, 2422F | C38: BVPF | D38: =D6 -> 0.347
A39: Ball valve- 5544S | C39: BVRP | D39: =D6 -> 0.347
A40: Check valve- 238, 360 | C40: CPCK | D40: =D6 -> 0.347
...

Sheet PRICE LIST
A1: ItemCode | B1: ItemCodeDesc | C1: UDF_UPC1 | D1: Product Line | E1: UDF_MATERIAL | F1: WGT | G1: Carton Qty | H1: Current List Price 2/1/2026 | I1: Multiplier | J1: NET_Price | K1: County of Origin
A2: 9517AB 1 | B2: =VLOOKUP(Table_for_new_list_price[[#This Row],[ItemCode]],[1]sheet1!$1:$1048576,4,FALSE) -> AB DZR BRASS BALANCING VLV THD | C2: =VLOOKUP(Table_for_new_list_price[[#This Row],[ItemCode]],[1]sheet1!$1:$1048576,5,FALSE) -> 670779702179 | D2: =VLOOKUP(Table_for_new_list_price[[#This Row],[ItemCode]],[1]sheet1!$1:$1048576,6,FALSE) -> ABBV | E2: =VLOOKUP(Table_for_new_list_price[[#This Row],[ItemCode]],[1]sheet1!$1:$1048576,7,FALSE) -> BRASS AB | F2: =VLOOKUP(Table_for_new_list_price[[#This Row],[ItemCode]],[1]sheet1!$1:$1048576,13,FALSE) -> 1.68 | G2: =VLOOKUP(Table_for_new_list_price[[#This Row],[ItemCode]],[1]sheet1!$1:$1048576,12,FALSE) -> 10 | H2: =VLOOKUP(Table_for_new_list_price[[#This Row],[ItemCode]],[1]sheet1!$1:$1048576,8,FALSE) -> 215.46 | I2: =VLOOKUP(Table_for_new_list_price[[#This Row],[Product Line]],'EDA SHEET'!$C$10:$D$57,2,FALSE) -> 0.347 | J2: =H2*I2 -> 74.76462 | K2: =VLOOKUP(Table_for_new_list_price[[#This Row],[ItemCode]],[1]sheet1!$1:$1048576,11,FALSE) -> Italy
A3: 9517AB 1-1/2 | B3: =VLOOKUP(Table_for_new_list_price[[#This Row],[ItemCode]],[1]sheet1!$1:$1048576,4,FALSE) -> AB DZR BRASS BALANCING VLV THD | C3: =VLOOKUP(Table_for_new_list_price[[#This Row],[ItemCode]],[1]sheet1!$1:$1048576,5,FALSE) -> 670779702193 | D3: =VLOOKUP(Table_for_new_list_price[[#This Row],[ItemCode]],[1]sheet1!$1:$1048576,6,FALSE) -> ABBV | E3: =VLOOKUP(Table_for_new_list_price[[#This Row],[ItemCode]],[1]sheet1!$1:$1048576,7,FALSE) -> BRASS AB | F3: =VLOOKUP(Table_for_new_list_price[[#This Row],[ItemCode]],[1]sheet1!$1:$1048576,13,FALSE) -> 3.44 | G3: =VLOOKUP(Table_for_new_list_price[[#This Row],[ItemCode]],[1]sheet1!$1:$1048576,12,FALSE) -> 10 | H3: =VLOOKUP(Table_for_new_list_price[[#This Row],[ItemCode]],[1]sheet1!$1:$1048576,8,FALSE) -> 351.85 | I3: =VLOOKUP(Table_for_new_list_price[[#This Row],[Product Line]],'EDA SHEET'!$C$10:$D$57,2,FALSE) -> 0.347 | J3: =H3*I3 -> 122.09195 | K3: =VLOOKUP(Table_for_new_list_price[[#This Row],[ItemCode]],[1]sheet1!$1:$1048576,11,FALSE) -> Italy
A4: 9517AB 1-1/4 | B4: =VLOOKUP(Table_for_new_list_price[[#This Row],[ItemCode]],[1]sheet1!$1:$1048576,4,FALSE) -> AB DZR BRASS BALANCING VLV THD | C4: =VLOOKUP(Table_for_new_list_price[[#This Row],[ItemCode]],[1]sheet1!$1:$1048576,5,FALSE) -> 670779702186 | D4: =VLOOKUP(Table_for_new_list_price[[#This Row],[ItemCode]],[1]sheet1!$1:$1048576,6,FALSE) -> ABBV | E4: =VLOOKUP(Table_for_new_list_price[[#This Row],[ItemCode]],[1]sheet1!$1:$1048576,7,FALSE) -> BRASS AB | F4: =VLOOKUP(Table_for_new_list_price[[#This Row],[ItemCode]],[1]sheet1!$1:$1048576,13,FALSE) -> 2.74 | G4: =VLOOKUP(Table_for_new_list_price[[#This Row],[ItemCode]],[1]sheet1!$1:$1048576,12,FALSE) -> 10 | H4: =VLOOKUP(Table_for_new_list_price[[#This Row],[ItemCode]],[1]sheet1!$1:$1048576,8,FALSE) -> 301.33 | I4: =VLOOKUP(Table_for_new_list_price[[#This Row],[Product Line]],'EDA SHEET'!$C$10:$D$57,2,FALSE) -> 0.347 | J4: =H4*I4 -> 104.56151 | K4: =VLOOKUP(Table_for_new_list_price[[#This Row],[ItemCode]],[1]sheet1!$1:$1048576,11,FALSE) -> Italy
A5: 9517AB 1/2 | B5: =VLOOKUP(Table_for_new_list_price[[#This Row],[ItemCode]],[1]sheet1!$1:$1048576,4,FALSE) -> AB DZR BRASS BALANCING VLV THD | C5: =VLOOKUP(Table_for_new_list_price[[#This Row],[ItemCode]],[1]sheet1!$1:$1048576,5,FALSE) -> 670779702155 | D5: =VLOOKUP(Table_for_new_list_price[[#This Row],[ItemCode]],[1]sheet1!$1:$1048576,6,FALSE) -> ABBV | E5: =VLOOKUP(Table_for_new_list_price[[#This Row],[ItemCode]],[1]sheet1!$1:$1048576,7,FALSE) -> BRASS AB | F5: =VLOOKUP(Table_for_new_list_price[[#This Row],[ItemCode]],[1]sheet1!$1:$1048576,13,FALSE) -> 1.24 | G5: =VLOOKUP(Table_for_new_list_price[[#This Row],[ItemCode]],[1]sheet1!$1:$1048576,12,FALSE) -> 20 | H5: =VLOOKUP(Table_for_new_list_price[[#This Row],[ItemCode]],[1]sheet1!$1:$1048576,8,FALSE) -> 182.58 | I5: =VLOOKUP(Table_for_new_list_price[[#This Row],[Product Line]],'EDA SHEET'!$C$10:$D$57,2,FALSE) -> 0.347 | J5: =H5*I5 -> 63.35526 | K5: =VLOOKUP(Table_for_new_list_price[[#This Row],[ItemCode]],[1]sheet1!$1:$1048576,11,FALSE) -> Italy
A6: 9517AB 2 | B6: =VLOOKUP(Table_for_new_list_price[[#This Row],[ItemCode]],[1]sheet1!$1:$1048576,4,FALSE) -> AB DZR BRASS BALANCING VLV THD | C6: =VLOOKUP(Table_for_new_list_price[[#This Row],[ItemCode]],[1]sheet1!$1:$1048576,5,FALSE) -> 670779702209 | D6: =VLOOKUP(Table_for_new_list_price[[#This Row],[ItemCode]],[1]sheet1!$1:$1048576,6,FALSE) -> ABBV | E6: =VLOOKUP(Table_for_new_list_price[[#This Row],[ItemCode]],[1]sheet1!$1:$1048576,7,FALSE) -> BRASS AB | F6: =VLOOKUP(Table_for_new_list_price[[#This Row],[ItemCode]],[1]sheet1!$1:$1048576,13,FALSE) -> 4.74 | G6: =VLOOKUP(Table_for_new_list_price[[#This Row],[ItemCode]],[1]sheet1!$1:$1048576,12,FALSE) -> 5 | H6: =VLOOKUP(Table_for_new_list_price[[#This Row],[ItemCode]],[1]sheet1!$1:$1048576,8,FALSE) -> 452.56 | I6: =VLOOKUP(Table_for_new_list_price[[#This Row],[Product Line]],'EDA SHEET'!$C$10:$D$57,2,FALSE) -> 0.347 | J6: =H6*I6 -> 157.03832 | K6: =VLOOKUP(Table_for_new_list_price[[#This Row],[ItemCode]],[1]sheet1!$1:$1048576,11,FALSE) -> Italy
A7: 9517AB 3/4 | B7: =VLOOKUP(Table_for_new_list_price[[#This Row],[ItemCode]],[1]sheet1!$1:$1048576,4,FALSE) -> AB DZR BRASS BALANCING VLV THD | C7: =VLOOKUP(Table_for_new_list_price[[#This Row],[ItemCode]],[1]sheet1!$1:$1048576,5,FALSE) -> 670779702162 | D7: =VLOOKUP(Table_for_new_list_price[[#This Row],[ItemCode]],[1]sheet1!$1:$1048576,6,FALSE) -> ABBV | E7: =VLOOKUP(Table_for_new_list_price[[#This Row],[ItemCode]],[1]sheet1!$1:$1048576,7,FALSE) -> BRASS AB | F7: =VLOOKUP(Table_for_new_list_price[[#This Row],[ItemCode]],[1]sheet1!$1:$1048576,13,FALSE) -> 1.42 | G7: =VLOOKUP(Table_for_new_list_price[[#This Row],[ItemCode]],[1]sheet1!$1:$1048576,12,FALSE) -> 15 | H7: =VLOOKUP(Table_for_new_list_price[[#This Row],[ItemCode]],[1]sheet1!$1:$1048576,8,FALSE) -> 193.62 | I7: =VLOOKUP(Table_for_new_list_price[[#This Row],[Product Line]],'EDA SHEET'!$C$10:$D$57,2,FALSE) -> 0.347 | J7: =H7*I7 -> 67.18614 | K7: =VLOOKUP(Table_for_new_list_price[[#This Row],[ItemCode]],[1]sheet1!$1:$1048576,11,FALSE) -> Italy
A8: 9517ABL 1/2 | B8: =VLOOKUP(Table_for_new_list_price[[#This Row],[ItemCode]],[1]sheet1!$1:$1048576,4,FALSE) -> AB DZR BRS BALANCNG VLV LF THD | C8: =VLOOKUP(Table_for_new_list_price[[#This Row],[ItemCode]],[1]sheet1!$1:$1048576,5,FALSE) -> 670779708287 | D8: =VLOOKUP(Table_for_new_list_price[[#This Row],[ItemCode]],[1]sheet1!$1:$1048576,6,FALSE) -> ABBV | E8: =VLOOKUP(Table_for_new_list_price[[#This Row],[ItemCode]],[1]sheet1!$1:$1048576,7,FALSE) -> BRASS AB | F8: =VLOOKUP(Table_for_new_list_price[[#This Row],[ItemCode]],[1]sheet1!$1:$1048576,13,FALSE) -> 1.24 | G8: =VLOOKUP(Table_for_new_list_price[[#This Row],[ItemCode]],[1]sheet1!$1:$1048576,12,FALSE) -> 20 | H8: =VLOOKUP(Table_for_new_list_price[[#This Row],[ItemCode]],[1]sheet1!$1:$1048576,8,FALSE) -> 182.58 | I8: =VLOOKUP(Table_for_new_list_price[[#This Row],[Product Line]],'EDA SHEET'!$C$10:$D$57,2,FALSE) -> 0.347 | J8: =H8*I8 -> 63.35526 | K8: =VLOOKUP(Table_for_new_list_price[[#This Row],[ItemCode]],[1]sheet1!$1:$1048576,11,FALSE) -> Italy
A9: 9517ABU 1/2 | B9: =VLOOKUP(Table_for_new_list_price[[#This Row],[ItemCode]],[1]sheet1!$1:$1048576,4,FALSE) -> AB DZR BRS BALANCNG VLV ULF TH | C9: =VLOOKUP(Table_for_new_list_price[[#This Row],[ItemCode]],[1]sheet1!$1:$1048576,5,FALSE) -> 670779708294 | D9: =VLOOKUP(Table_for_new_list_price[[#This Row],[ItemCode]],[1]sheet1!$1:$1048576,6,FALSE) -> ABBV | E9: =VLOOKUP(Table_for_new_list_price[[#This Row],[ItemCode]],[1]sheet1!$1:$1048576,7,FALSE) -> BRASS AB | F9: =VLOOKUP(Table_for_new_list_price[[#This Row],[ItemCode]],[1]sheet1!$1:$1048576,13,FALSE) -> 1.24 | G9: =VLOOKUP(Table_for_new_list_price[[#This Row],[ItemCode]],[1]sheet1!$1:$1048576,12,FALSE) -> 20 | H9: =VLOOKUP(Table_for_new_list_price[[#This Row],[ItemCode]],[1]sheet1!$1:$1048576,8,FALSE) -> 182.58 | I9: =VLOOKUP(Table_for_new_list_price[[#This Row],[Product Line]],'EDA SHEET'!$C$10:$D$57,2,FALSE) -> 0.347 | J9: =H9*I9 -> 63.35526 | K9: =VLOOKUP(Table_for_new_list_price[[#This Row],[ItemCode]],[1]sheet1!$1:$1048576,11,FALSE) -> Italy
A10: 9519AB 1 | B10: =VLOOKUP(Table_for_new_list_price[[#This Row],[ItemCode]],[1]sheet1!$1:$1048576,4,FALSE) -> AB DZR BRASS BALANCING VLV CXC | C10: =VLOOKUP(Table_for_new_list_price[[#This Row],[ItemCode]],[1]sheet1!$1:$1048576,5,FALSE) -> 670779702230 | D10: =VLOOKUP(Table_for_new_list_price[[#This Row],[ItemCode]],[1]sheet1!$1:$1048576,6,FALSE) -> ABBV | E10: =VLOOKUP(Table_for_new_list_price[[#This Row],[ItemCode]],[1]sheet1!$1:$1048576,7,FALSE) -> BRASS AB | F10: =VLOOKUP(Table_for_new_list_price[[#This Row],[ItemCode]],[1]sheet1!$1:$1048576,13,FALSE) -> 1.52 | G10: =VLOOKUP(Table_for_new_list_price[[#This Row],[ItemCode]],[1]sheet1!$1:$1048576,12,FALSE) -> 10 | H10: =VLOOKUP(Table_for_new_list_price[[#This Row],[ItemCode]],[1]sheet1!$1:$1048576,8,FALSE) -> 215.46 | I10: =VLOOKUP(Table_for_new_list_price[[#This Row],[Product Line]],'EDA SHEET'!$C$10:$D$57,2,FALSE) -> 0.347 | J10: =H10*I10 -> 74.76462 | K10: =VLOOKUP(Table_for_new_list_price[[#This Row],[ItemCode]],[1]sheet1!$1:$1048576,11,FALSE) -> Italy
A11: 9519AB 1-1/2 | B11: =VLOOKUP(Table_for_new_list_price[[#This Row],[ItemCode]],[1]sheet1!$1:$1048576,4,FALSE) -> AB DZR BRASS BALANCING VLV CXC | C11: =VLOOKUP(Table_for_new_list_price[[#This Row],[ItemCode]],[1]sheet1!$1:$1048576,5,FALSE) -> 670779702254 | D11: =VLOOKUP(Table_for_new_list_price[[#This Row],[ItemCode]],[1]sheet1!$1:$1048576,6,FALSE) -> ABBV | E11: =VLOOKUP(Table_for_new_list_price[[#This Row],[ItemCode]],[1]sheet1!$1:$1048576,7,FALSE) -> BRASS AB | F11: =VLOOKUP(Table_for_new_list_price[[#This Row],[ItemCode]],[1]sheet1!$1:$1048576,13,FALSE) -> 3.12 | G11: =VLOOKUP(Table_for_new_list_price[[#This Row],[ItemCode]],[1]sheet1!$1:$1048576,12,FALSE) -> 10 | H11: =VLOOKUP(Table_for_new_list_price[[#This Row],[ItemCode]],[1]sheet1!$1:$1048576,8,FALSE) -> 351.85 | I11: =VLOOKUP(Table_for_new_list_price[[#This Row],[Product Line]],'EDA SHEET'!$C$10:$D$57,2,FALSE) -> 0.347 | J11: =H11*I11 -> 122.09195 | K11: =VLOOKUP(Table_for_new_list_price[[#This Row],[ItemCode]],[1]sheet1!$1:$1048576,11,FALSE) -> Italy
A12: 9519AB 1-1/4 | B12: =VLOOKUP(Table_for_new_list_price[[#This Row],[ItemCode]],[1]sheet1!$1:$1048576,4,FALSE) -> AB DZR BRASS BALANCING VLV CXC | C12: =VLOOKUP(Table_for_new_list_price[[#This Row],[ItemCode]],[1]sheet1!$1:$1048576,5,FALSE) -> 670779702247 | D12: =VLOOKUP(Table_for_new_list_price[[#This Row],[ItemCode]],[1]sheet1!$1:$1048576,6,FALSE) -> ABBV | E12: =VLOOKUP(Table_for_new_list_price[[#This Row],[ItemCode]],[1]sheet1!$1:$1048576,7,FALSE) -> BRASS AB | F12: =VLOOKUP(Table_for_new_list_price[[#This Row],[ItemCode]],[1]sheet1!$1:$1048576,13,FALSE) -> 2.46 | G12: =VLOOKUP(Table_for_new_list_price[[#This Row],[ItemCode]],[1]sheet1!$1:$1048576,12,FALSE) -> 10 | H12: =VLOOKUP(Table_for_new_list_price[[#This Row],[ItemCode]],[1]sheet1!$1:$1048576,8,FALSE) -> 301.33 | I12: =VLOOKUP(Table_for_new_list_price[[#This Row],[Product Line]],'EDA SHEET'!$C$10:$D$57,2,FALSE) -> 0.347 | J12: =H12*I12 -> 104.56151 | K12: =VLOOKUP(Table_for_new_list_price[[#This Row],[ItemCode]],[1]sheet1!$1:$1048576,11,FALSE) -> Italy
A13: 9519AB 1/2 | B13: =VLOOKUP(Table_for_new_list_price[[#This Row],[ItemCode]],[1]sheet1!$1:$1048576,4,FALSE) -> AB DZR BRASS BALANCING VLV CXC | C13: =VLOOKUP(Table_for_new_list_price[[#This Row],[ItemCode]],[1]sheet1!$1:$1048576,5,FALSE) -> 670779702216 | D13: =VLOOKUP(Table_for_new_list_price[[#This Row],[ItemCode]],[1]sheet1!$1:$1048576,6,FALSE) -> ABBV | E13: =VLOOKUP(Table_for_new_list_price[[#This Row],[ItemCode]],[1]sheet1!$1:$1048576,7,FALSE) -> BRASS AB | F13: =VLOOKUP(Table_for_new_list_price[[#This Row],[ItemCode]],[1]sheet1!$1:$1048576,13,FALSE) -> 1.16 | G13: =VLOOKUP(Table_for_new_list_price[[#This Row],[ItemCode]],[1]sheet1!$1:$1048576,12,FALSE) -> 20 | H13: =VLOOKUP(Table_for_new_list_price[[#This Row],[ItemCode]],[1]sheet1!$1:$1048576,8,FALSE) -> 182.58 | I13: =VLOOKUP(Table_for_new_list_price[[#This Row],[Product Line]],'EDA SHEET'!$C$10:$D$57,2,FALSE) -> 0.347 | J13: =H13*I13 -> 63.35526 | K13: =VLOOKUP(Table_for_new_list_price[[#This Row],[ItemCode]],[1]sheet1!$1:$1048576,11,FALSE) -> Italy
... A158: 5070AB 3/4 | B158: =VLOOKUP(Table_for_new_list_price[[#This Row],[ItemCode]],[1]sheet1!$1:$1048576,4,FALSE) -> LOW LEAD EZGRIP BALL VALVE | C158: =VLOOKUP(Table_for_new_list_price[[#This Row],[ItemCode]],[1]sheet1!$1:$1048576,5,FALSE) -> 670779431055 | D158: =VLOOKUP(Table_for_new_list_price[[#This Row],[ItemCode]],[1]sheet1!$1:$1048576,6,FALSE) -> ABEZ | E158: =VLOOKUP(Table_for_new_list_price[[#This Row],[ItemCode]],[1]sheet1!$1:$1048576,7,FALSE) -> BRASS AB | F158: =VLOOKUP(Table_for_new_list_price[[#This Row],[ItemCode]],[1]sheet1!$1:$1048576,13,FALSE) -> 0.68 | G158: =VLOOKUP(Table_for_new_list_price[[#This Row],[ItemCode]],[1]sheet1!$1:$1048576,12,FALSE) -> 60 | H158: =VLOOKUP(Table_for_new_list_price[[#This Row],[ItemCode]],[1]sheet1!$1:$1048576,8,FALSE) -> 87.79 | I158: =VLOOKUP(Table_for_new_list_price[[#This Row],[Product Line]],'EDA SHEET'!$C$10:$D$57,2,FALSE) -> 0.347 | J158: =H158*I158 -> 30.46313 | K158: =VLOOKUP(Table_for_new_list_price[[#This Row],[ItemCode]],[1]sheet1!$1:$1048576,11,FALSE) -> China
A159: 5520AB 1 | B159: =VLOOKUP(Table_for_new_list_price[[#This Row],[ItemCode]],[1]sheet1!$1:$1048576,4,FALSE) -> LF BRASS PRESS BALL VALVE LT | C159: =VLOOKUP(Table_for_new_list_price[[#This Row],[ItemCode]],[1]sheet1!$1:$1048576,5,FALSE) -> 670779714707 | D159: =VLOOKUP(Table_for_new_list_price[[#This Row],[ItemCode]],[1]sheet1!$1:$1048576,6,FALSE) -> ABEZ | E159: =VLOOKUP(Table_for_new_list_price[[#This Row],[ItemCode]],[1]sheet1!$1:$1048576,7,FALSE) -> BRASS AB | F159: =VLOOKUP(Table_for_new_list_price[[#This Row],[ItemCode]],[1]sheet1!$1:$1048576,13,FALSE) -> 0.908 | G159: =VLOOKUP(Table_for_new_list_price[[#This Row],[ItemCode]],[1]sheet1!$1:$1048576,12,FALSE) -> 40 | H159: =VLOOKUP(Table_for_new_list_price[[#This Row],[ItemCode]],[1]sheet1!$1:$1048576,8,FALSE) -> 94.93 | I159: 0.2 | J159: =H159*I159 -> 18.986 | K159: =VLOOKUP(Table_for_new_list_price[[#This Row],[ItemCode]],[1]sheet1!$1:$1048576,11,FALSE) -> Italy
A160: 5520AB 1-1/2 | B160: =VLOOKUP(Table_for_new_list_price[[#This Row],[ItemCode]],[1]sheet1!$1:$1048576,4,FALSE) -> LF BRASS PRESS BALL VALVE LT | C160: =VLOOKUP(Table_for_new_list_price[[#This Row],[ItemCode]],[1]sheet1!$1:$1048576,5,FALSE) -> 670779714721 | D160: =VLOOKUP(Table_for_new_list_price[[#This Row],[ItemCode]],[1]sheet1!$1:$1048576,6,FALSE) -> ABEZ | E160: =VLOOKUP(Table_for_new_list_price[[#This Row],[ItemCode]],[1]sheet1!$1:$1048576,7,FALSE) -> BRASS AB | F160: =VLOOKUP(Table_for_new_list_price[[#This Row],[ItemCode]],[1]sheet1!$1:$1048576,13,FALSE) -> 1.95 | G160: =VLOOKUP(Table_for_new_list_price[[#This Row],[ItemCode]],[1]sheet1!$1:$1048576,12,FALSE) -> 20 | H160: =VLOOKUP(Table_for_new_list_price[[#This Row],[ItemCode]],[1]sheet1!$1:$1048576,8,FALSE) -> 219.13 | I160: 0.2 | J160: =H160*I160 -> 43.826 | K160: =VLOOKUP(Table_for_new_list_price[[#This Row],[ItemCode]],[1]sheet1!$1:$1048576,11,FALSE) -> Italy
A161: 5520AB 1-1/4 | B161: =VLOOKUP(Table_for_new_list_price[[#This Row],[ItemCode]],[1]sheet1!$1:$1048576,4,FALSE) -> LF BRASS PRESS BALL VALVE LT | C161: =VLOOKUP(Table_for_new_list_price[[#This Row],[ItemCode]],[1]sheet1!$1:$1048576,5,FALSE) -> 670779714714 | D161: =VLOOKUP(Table_for_new_list_price[[#This Row],[ItemCode]],[1]sheet1!$1:$1048576,6,FALSE) -> ABEZ | E161: =VLOOKUP(Table_for_new_list_price[[#This Row],[ItemCode]],[1]sheet1!$1:$1048576,7,FALSE) -> BRASS AB | F161: =VLOOKUP(Table_for_new_list_price[[#This Row],[ItemCode]],[1]sheet1!$1:$1048576,13,FALSE) -> 1.28 | G161: =VLOOKUP(Table_for_new_list_price[[#This Row],[ItemCode]],[1]sheet1!$1:$1048576,12,FALSE) -> 35 | H161: =VLOOKUP(Table_for_new_list_price[[#This Row],[ItemCode]],[1]sheet1!$1:$1048576,8,FALSE) -> 135.54 | I161: 0.2 | J161: =H161*I161 -> 27.108 | K161: =VLOOKUP(Table_for_new_list_price[[#This Row],[ItemCode]],[1]sheet1!$1:$1048576,11,FALSE) -> Italy
A162: 5520AB 1/2 | B162: =VLOOKUP(Table_for_new_list_price[[#This Row],[ItemCode]],[1]sheet1!$1:$1048576,4,FALSE) -> LF BRASS PRESS BALL VALVE LT | C162: =VLOOKUP(Table_for_new_list_price[[#This Row],[ItemCode]],[1]sheet1!$1:$1048576,5,FALSE) -> 670779714684 | D162: =VLOOKUP(Table_for_new_list_price[[#This Row],[ItemCode]],[1]sheet1!$1:$1048576,6,FALSE) -> ABEZ | E162: =VLOOKUP(Table_for_new_list_price[[#This Row],[ItemCode]],[1]sheet1!$1:$1048576,7,FALSE) -> BRASS AB | F162: =VLOOKUP(Table_for_new_list_price[[#This Row],[ItemCode]],[1]sheet1!$1:$1048576,13,FALSE) -> .396 | G162: =VLOOKUP(Table_for_new_list_price[[#This Row],[ItemCode]],[1]sheet1!$1:$1048576,12,FALSE) -> 50 | H162: =VLOOKUP(Table_for_new_list_price[[#This Row],[ItemCode]],[1]sheet1!$1:$1048576,8,FALSE) -> 56.06 | I162: 0.2 | J162: =H162*I162 -> 11.212 | K162: =VLOOKUP(Table_for_new_list_price[[#This Row],[ItemCode]],[1]sheet1!$1:$1048576,11,FALSE) -> Italy
A163: 5520AB 2 | B163: =VLOOKUP(Table_for_new_list_price[[#This Row],[ItemCode]],[1]sheet1!$1:$1048576,4,FALSE) -> LF BRASS PRESS BALL VALVE LT | C163: =VLOOKUP(Table_for_new_list_price[[#This Row],[ItemCode]],[1]sheet1!$1:$1048576,5,FALSE) -> 670779714738 | D163: =VLOOKUP(Table_for_new_list_price[[#This Row],[ItemCode]],[1]sheet1!$1:$1048576,6,FALSE) -> ABEZ | E163: =VLOOKUP(Table_for_new_list_price[[#This Row],[ItemCode]],[1]sheet1!$1:$1048576,7,FALSE) -> BRASS AB | F163: =VLOOKUP(Table_for_new_list_price[[#This Row],[ItemCode]],[1]sheet1!$1:$1048576,13,FALSE) -> 2.93 | G163: =VLOOKUP(Table_for_new_list_price[[#This Row],[ItemCode]],[1]sheet1!$1:$1048576,12,FALSE) -> 12 | H163: =VLOOKUP(Table_for_new_list_price[[#This Row],[ItemCode]],[1]sheet1!$1:$1048576,8,FALSE) -> 321.93 | I163: 0.2 | J163: =H163*I163 -> 64.386 | K163: =VLOOKUP(Table_for_new_list_price[[#This Row],[ItemCode]],[1]sheet1!$1:$1048576,11,FALSE) -> Italy
A164: 5520AB 3/4 | B164: =VLOOKUP(Table_for_new_list_price[[#This Row],[ItemCode]],[1]sheet1!$1:$1048576,4,FALSE) -> LF BRASS PRESS BALL VALVE LT | C164: =VLOOKUP(Table_for_new_list_price[[#This Row],[ItemCode]],[1]sheet1!$1:$1048576,5,FALSE) -> 670779714691 | D164: =VLOOKUP(Table_for_new_list_price[[#This Row],[ItemCode]],[1]sheet1!$1:$1048576,6,FALSE) -> ABEZ | E164: =VLOOKUP(Table_for_new_list_price[[#This Row],[ItemCode]],[1]sheet1!$1:$1048576,7,FALSE) -> BRASS AB | F164: =VLOOKUP(Table_for_new_list_price[[#This Row],[ItemCode]],[1]sheet1!$1:$1048576,13,FALSE) -> 0.508 | G164: =VLOOKUP(Table_for_new_list_price[[#This Row],[ItemCode]],[1]sheet1!$1:$1048576,12,FALSE) -> 50 | H164: =VLOOKUP(Table_for_new_list_price[[#This Row],[ItemCode]],[1]sheet1!$1:$1048576,8,FALSE) -> 74.12 | I164: 0.2 | J164: =H164*I164 -> 14.824 | K164: =VLOOKUP(Table_for_new_list_price[[#This Row],[ItemCode]],[1]sheet1!$1:$1048576,11,FALSE) -> Italy
A165: 5520ABX 2-1/2 | B165: =VLOOKUP(Table_for_new_list_price[[#This Row],[ItemCode]],[1]sheet1!$1:$1048576,4,FALSE) -> LL XLC PRESS BALL VALVE LT | C165: =VLOOKUP(Table_for_new_list_price[[#This Row],[ItemCode]],[1]sheet1!$1:$1048576,5,FALSE) -> 670779714745 | D165: =VLOOKUP(Table_for_new_list_price[[#This Row],[ItemCode]],[1]sheet1!$1:$1048576,6,FALSE) -> ABEZ | E165: =VLOOKUP(Table_for_new_list_price[[#This Row],[ItemCode]],[1]sheet1!$1:$1048576,7,FALSE) -> BRASS AB | F165: =VLOOKUP(Table_for_new_list_price[[#This Row],[ItemCode]],[1]sheet1!$1:$1048576,13,FALSE) -> 6.80 | G165: =VLOOKUP(Table_for_new_list_price[[#This Row],[ItemCode]],[1]sheet1!$1:$1048576,12,FALSE) -> 4 | H165: =VLOOKUP(Table_for_new_list_price[[#This Row],[ItemCode]],[1]sheet1!$1:$1048576,8,FALSE) -> 634.08 | I165: 0.268 | J165: =H165*I165 -> 169.93344 | K165: =VLOOKUP(Table_for_new_list_price[[#This Row],[ItemCode]],[1]sheet1!$1:$1048576,11,FALSE) -> Italy
A166: 5520ABX 3 | B166: =VLOOKUP(Table_for_new_list_price[[#This Row],[ItemCode]],[1]sheet1!$1:$1048576,4,FALSE) -> LL XLC PRESS BALL VALVE LT | C166: =VLOOKUP(Table_for_new_list_price[[#This Row],[ItemCode]],[1]sheet1!$1:$1048576,5,FALSE) -> 670779714752 | D166: =VLOOKUP(Table_for_new_list_price[[#This Row],[ItemCode]],[1]sheet1!$1:$1048576,6,FALSE) -> ABEZ | E166: =VLOOKUP(Table_for_new_list_price[[#This Row],[ItemCode]],[1]sheet1!$1:$1048576,7,FALSE) -> BRASS AB | F166: =VLOOKUP(Table_for_new_list_price[[#This Row],[ItemCode]],[1]sheet1!$1:$1048576,13,FALSE) -> 10.38 | G166: =VLOOKUP(Table_for_new_list_price[[#This Row],[ItemCode]],[1]sheet1!$1:$1048576,12,FALSE) -> 2 | H166: =VLOOKUP(Table_for_new_list_price[[#This Row],[ItemCode]],[1]sheet1!$1:$1048576,8,FALSE) -> 1104.63 | I166: 0.268 | J166: =H166*I166 -> 296.04084 | K166: =VLOOKUP(Table_for_new_list_price[[#This Row],[ItemCode]],[1]sheet1!$1:$1048576,11,FALSE) -> Italy
A167: 5520ABX 4 | B167: =VLOOKUP(Table_for_new_list_price[[#This Row],[ItemCode]],[1]sheet1!$1:$1048576,4,FALSE) -> LL XLC PRESS BALL VALVE LT | C167: =VLOOKUP(Table_for_new_list_price[[#This Row],[ItemCode]],[1]sheet1!$1:$1048576,5,FALSE) -> 670779714769 | D167: =VLOOKUP(Table_for_new_list_price[[#This Row],[ItemCode]],[1]sheet1!$1:$1048576,6,FALSE) -> ABEZ | E167: =VLOOKUP(Table_for_new_list_price[[#This Row],[ItemCode]],[1]sheet1!$1:$1048576,7,FALSE) -> BRASS AB | F167: =VLOOKUP(Table_for_new_list_price[[#This Row],[ItemCode]],[1]sheet1!$1:$1048576,13,FALSE) -> 16.78 | G167: =VLOOKUP(Table_for_new_list_price[[#This Row],[ItemCode]],[1]sheet1!$1:$1048576,12,FALSE) -> 1 | H167: =VLOOKUP(Table_for_new_list_price[[#This Row],[ItemCode]],[1]sheet1!$1:$1048576,8,FALSE) -> 1437.15 | I167: 0.268 | J167: =H167*I167 -> 385.1562 | K167: =VLOOKUP(Table_for_new_list_price[[#This Row],[ItemCode]],[1]sheet1!$1:$1048576,11,FALSE) -> Italy
A168: RW-320AB 1/2 | B168: =VLOOKUP(Table_for_new_list_price[[#This Row],[ItemCode]],[1]sheet1!$1:$1048576,4,FALSE) -> PRESS NOKINK BALL HOSEBIBB LF | C168: =VLOOKUP(Table_for_new_list_price[[#This Row],[ItemCode]],[1]sheet1!$1:$1048576,5,FALSE) -> 670779714660 | D168: =VLOOKUP(Table_for_new_list_price[[#This Row],[ItemCode]],[1]sheet1!$1:$1048576,6,FALSE) -> ABEZ | E168: =VLOOKUP(Table_for_new_list_price[[#This Row],[ItemCode]],[1]sheet1!$1:$1048576,7,FALSE) -> BRASS | F168: =VLOOKUP(Table_for_new_list_price[[#This Row],[ItemCode]],[1]sheet1!$1:$1048576,13,FALSE) -> .35 | G168: =VLOOKUP(Table_for_new_list_price[[#This Row],[ItemCode]],[1]sheet1!$1:$1048576,12,FALSE) -> 80 | H168: =VLOOKUP(Table_for_new_list_price[[#This Row],[ItemCode]],[1]sheet1!$1:$1048576,8,FALSE) -> 32.29 | I168: =VLOOKUP(Table_for_new_list_price[[#This Row],[Product Line]],'EDA SHEET'!$C$10:$D$57,2,FALSE) -> 0.347 | J168: =H168*I168 -> 11.20463 | K168: =VLOOKUP(Table_for_new_list_price[[#This Row],[ItemCode]],[1]sheet1!$1:$1048576,11,FALSE) -> China
A169: RW-320AB 3/4 | B169: =VLOOKUP(Table_for_new_list_price[[#This Row],[ItemCode]],[1]sheet1!$1:$1048576,4,FALSE) -> PRESS NOKINK BALL HOSEBIBB LF | C169: =VLOOKUP(Table_for_new_list_price[[#This Row],[ItemCode]],[1]sheet1!$1:$1048576,5,FALSE) -> 670779714677 | D169: =VLOOKUP(Table_for_new_list_price[[#This Row],[ItemCode]],[1]sheet1!$1:$1048576,6,FALSE) -> ABEZ | E169: =VLOOKUP(Table_for_new_list_price[[#This Row],[ItemCode]],[1]sheet1!$1:$1048576,7,FALSE) -> BRASS | F169: =VLOOKUP(Table_for_new_list_price[[#This Row],[ItemCode]],[1]sheet1!$1:$1048576,13,FALSE) -> .40 | G169: =VLOOKUP(Table_for_new_list_price[[#This Row],[ItemCode]],[1]sheet1!$1:$1048576,12,FALSE) -> 50 | H169: =VLOOKUP(Table_for_new_list_price[[#This Row],[ItemCode]],[1]sheet1!$1:$1048576,8,FALSE) -> 44.56 | I169: =VLOOKUP(Table_for_new_list_price[[#This Row],[Product Line]],'EDA SHEET'!$C$10:$D$57,2,FALSE) -> 0.347 | J169: =H169*I169 -> 15.46232 | K169: =VLOOKUP(Table_for_new_list_price[[#This Row],[ItemCode]],[1]sheet1!$1:$1048576,11,FALSE) -> China
A170: 206AB 1 | B170: =VLOOKUP(Table_for_new_list_price[[#This Row],[ItemCode]],[1]sheet1!$1:$1048576,4,FALSE) -> LOW LEAD GATE IPS | C170: =VLOOKUP(Table_for_new_list_price[[#This Row],[ItemCode]],[1]sheet1!$1:$1048576,5,FALSE) -> 670779206066 | D170: =VLOOKUP(Table_for_new_list_price[[#This Row],[ItemCode]],[1]sheet1!$1:$1048576,6,FALSE) -> ABGA | E170: =VLOOKUP(Table_for_new_list_price[[#This Row],[ItemCode]],[1]sheet1!$1:$1048576,7,FALSE) -> BRASS AB | F170: =VLOOKUP(Table_for_new_list_price[[#This Row],[ItemCode]],[1]sheet1!$1:$1048576,13,FALSE) -> 1.18 | G170: =VLOOKUP(Table_for_new_list_price[[#This Row],[ItemCode]],[1]sheet1!$1:$1048576,12,FALSE) -> 20 | H170: =VLOOKUP(Table_for_new_list_price[[#This Row],[ItemCode]],[1]sheet1!$1:$1048576,8,FALSE) -> 65.86 | I170: =VLOOKUP(Table_for_new_list_price[[#This Row],[Product Line]],'EDA SHEET'!$C$10:$D$57,2,FALSE) -> 0.313 | J170: =H170*I170 -> 20.61418 | K170: =VLOOKUP(Table_for_new_list_price[[#This Row],[ItemCode]],[1]sheet1!$1:$1048576,11,FALSE) -> Italy
A171: 206AB 1-1/2 | B171: =VLOOKUP(Table_for_new_list_price[[#This Row],[ItemCode]],[1]sheet1!$1:$1048576,4,FALSE) -> LOW LEAD GATE IPS | C171: =VLOOKUP(Table_for_new_list_price[[#This Row],[ItemCode]],[1]sheet1!$1:$1048576,5,FALSE) -> 670779206080 | D171: =VLOOKUP(Table_for_new_list_price[[#This Row],[ItemCode]],[1]sheet1!$1:$1048576,6,FALSE) -> ABGA | E171: =VLOOKUP(Table_for_new_list_price[[#This Row],[ItemCode]],[1]sheet1!$1:$1048576,7,FALSE) -> BRASS AB | F171: =VLOOKUP(Table_for_new_list_price[[#This Row],[ItemCode]],[1]sheet1!$1:$1048576,13,FALSE) -> 2.4 | G171: =VLOOKUP(Table_for_new_list_price[[#This Row],[ItemCode]],[1]sheet1!$1:$1048576,12,FALSE) -> 15 | H171: =VLOOKUP(Table_for_new_list_price[[#This Row],[ItemCode]],[1]sheet1!$1:$1048576,8,FALSE) -> 125.07 | I171: =VLOOKUP(Table_for_new_list_price[[#This Row],[Product Line]],'EDA SHEET'!$C$10:$D$57,2,FALSE) -> 0.313 | J171: =H171*I171 -> 39.14691 | K171: =VLOOKUP(Table_for_new_list_price[[#This Row],[ItemCode]],[1]sheet1!$1:$1048576,11,FALSE) -> Italy
A172: 206AB 1-1/4 | B172: =VLOOKUP(Table_for_new_list_price[[#This Row],[ItemCode]],[1]sheet1!$1:$1048576,4,FALSE) -> LOW LEAD GATE IPS | C172: =VLOOKUP(Table_for_new_list_price[[#This Row],[ItemCode]],[1]sheet1!$1:$1048576,5,FALSE) -> 670779206073 | D172: =VLOOKUP(Table_for_new_list_price[[#This Row],[ItemCode]],[1]sheet1!$1:$1048576,6,FALSE) -> ABGA | E172: =VLOOKUP(Table_for_new_list_price[[#This Row],[ItemCode]],[1]sheet1!$1:$1048576,7,FALSE) -> BRASS AB | F172: =VLOOKUP(Table_for_new_list_price[[#This Row],[ItemCode]],[1]sheet1!$1:$1048576,13,FALSE) -> 1.8 | G172: =VLOOKUP(Table_for_new_list_price[[#This Row],[ItemCode]],[1]sheet1!$1:$1048576,12,FALSE) -> 20 | H172: =VLOOKUP(Table_for_new_list_price[[#This Row],[ItemCode]],[1]sheet1!$1:$1048576,8,FALSE) -> 95.72 | I172: =VLOOKUP(Table_for_new_list_price[[#This Row],[Product Line]],'EDA SHEET'!$C$10:$D$57,2,FALSE) -> 0.313 | J172: =H172*I172 -> 29.96036 | K172: =VLOOKUP(Table_for_new_list_price[[#This Row],[ItemCode]],[1]sheet1!$1:$1048576,11,FALSE) -> Italy
A173: 206AB 1/2 | B173: =VLOOKUP(Table_for_new_list_price[[#This Row],[ItemCode]],[1]sheet1!$1:$1048576,4,FALSE) -> LOW LEAD GATE IPS | C173: =VLOOKUP(Table_for_new_list_price[[#This Row],[ItemCode]],[1]sheet1!$1:$1048576,5,FALSE) -> 670779206042 | D173: =VLOOKUP(Table_for_new_list_price[[#This Row],[ItemCode]],[1]sheet1!$1:$1048576,6,FALSE) -> ABGA | E173: =VLOOKUP(Table_for_new_list_price[[#This Row],[ItemCode]],[1]sheet1!$1:$1048576,7,FALSE) -> BRASS AB | F173: =VLOOKUP(Table_for_new_list_price[[#This Row],[ItemCode]],[1]sheet1!$1:$1048576,13,FALSE) -> 0.54 | G173: =VLOOKUP(Table_for_new_list_price[[#This Row],[ItemCode]],[1]sheet1!$1:$1048576,12,FALSE) -> 50 | H173: =VLOOKUP(Table_for_new_list_price[[#This Row],[ItemCode]],[1]sheet1!$1:$1048576,8,FALSE) -> 38.51 | I173: =VLOOKUP(Table_for_new_list_price[[#This Row],[Product Line]],'EDA SHEET'!$C$10:$D$57,2,FALSE) -> 0.313 | J173: =H173*I173 -> 12.05363 | K173: =VLOOKUP(Table_for_new_list_price[[#This Row],[ItemCode]],[1]sheet1!$1:$1048576,11,FALSE) -> Italy
A174: 206AB 2 | B174: =VLOOKUP(Table_for_new_list_price[[#This Row],[ItemCode]],[1]sheet1!$1:$1048576,4,FALSE) -> LOW LEAD GATE IPS | C174: =VLOOKUP(Table_for_new_list_price[[#This Row],[ItemCode]],[1]sheet1!$1:$1048576,5,FALSE) -> 670779206202 | D174: =VLOOKUP(Table_for_new_list_price[[#This Row],[ItemCode]],[1]sheet1!$1:$1048576,6,FALSE) -> ABGA | E174: =VLOOKUP(Table_for_new_list_price[[#This Row],[ItemCode]],[1]sheet1!$1:$1048576,7,FALSE) -> BRASS AB | F174: =VLOOKUP(Table_for_new_list_price[[#This Row],[ItemCode]],[1]sheet1!$1:$1048576,13,FALSE) -> 3.96 | G174: =VLOOKUP(Table_for_new_list_price[[#This Row],[ItemCode]],[1]sheet1!$1:$1048576,12,FALSE) -> 10 | H174: =VLOOKUP(Table_for_new_list_price[[#This Row],[ItemCode]],[1]sheet1!$1:$1048576,8,FALSE) -> 186.58 | I174: =VLOOKUP(Table_for_new_list_price[[#This Row],[Product Line]],'EDA SHEET'!$C$10:$D$57,2,FALSE) -> 0.313 | J174: =H174*I174 -> 58.39954 | K174: =VLOOKUP(Table_for_new_list_price[[#This Row],[ItemCode]],[1]sheet1!$1:$1048576,11,FALSE) -> Italy
A175: 206AB 2-1/2 | B175: =VLOOKUP(Table_for_new_list_price[[#This Row],[ItemCode]],[1]sheet1!$1:$1048576,4,FALSE) -> LOW LEAD GATE IPS | C175: =VLOOKUP(Table_for_new_list_price[[#This Row],[ItemCode]],[1]sheet1!$1:$1048576,5,FALSE) -> 670779206257 | D175: =VLOOKUP(Table_for_new_list_price[[#This Row],[ItemCode]],[1]sheet1!$1:$1048576,6,FALSE) -> ABGA | E175: =VLOOKUP(Table_for_new_list_price[[#This Row],[ItemCode]],[1]sheet1!$1:$1048576,7,FALSE) -> BRASS AB | F175: =VLOOKUP(Table_for_new_list_price[[#This Row],[ItemCode]],[1]sheet1!$1:$1048576,13,FALSE) -> 6.8 | G175: =VLOOKUP(Table_for_new_list_price[[#This Row],[ItemCode]],[1]sheet1!$1:$1048576,12,FALSE) -> 6 | H175: =VLOOKUP(Table_for_new_list_price[[#This Row],[ItemCode]],[1]sheet1!$1:$1048576,8,FALSE) -> 364.36 | I175: =VLOOKUP(Table_for_new_list_price[[#This Row],[Product Line]],'EDA SHEET'!$C$10:$D$57,2,FALSE) -> 0.313 | J175: =H175*I175 -> 114.04468 | K175: =VLOOKUP(Table_for_new_list_price[[#This Row],[ItemCode]],[1]sheet1!$1:$1048576,11,FALSE) -> Italy
A176: 206AB 3 | B176: =VLOOKUP(Table_for_new_list_price[[#This Row],[ItemCode]],[1]sheet1!$1:$1048576,4,FALSE) -> LOW LEAD GATE IPS | C176: =VLOOKUP(Table_for_new_list_price[[#This Row],[ItemCode]],[1]sheet1!$1:$1048576,5,FALSE) -> 670779206301 | D176: =VLOOKUP(Table_for_new_list_price[[#This Row],[ItemCode]],[1]sheet1!$1:$1048576,6,FALSE) -> ABGA | E176: =VLOOKUP(Table_for_new_list_price[[#This Row],[ItemCode]],[1]sheet1!$1:$1048576,7,FALSE) -> BRASS AB | F176: =VLOOKUP(Table_for_new_list_price[[#This Row],[ItemCode]],[1]sheet1!$1:$1048576,13,FALSE) -> 8.66 | G176: =VLOOKUP(Table_for_new_list_price[[#This Row],[ItemCode]],[1]sheet1!$1:$1048576,12,FALSE) -> 4 | H176: =VLOOKUP(Table_for_new_list_price[[#This Row],[ItemCode]],[1]sheet1!$1:$1048576,8,FALSE) -> 514.99 | I176: =VLOOKUP(Table_for_new_list_price[[#This Row],[Product Line]],'EDA SHEET'!$C$10:$D$57,2,FALSE) -> 0.313 | J176: =H176*I176 -> 161.19187 | K176: =VLOOKUP(Table_for_new_list_price[[#This Row],[ItemCode]],[1]sheet1!$1:$1048576,11,FALSE) -> Italy
A177: 206AB 3/4 | B177: =VLOOKUP(Table_for_new_list_price[[#This Row],[ItemCode]],[1]sheet1!$1:$1048576,4,FALSE) -> LOW LEAD GATE IPS | C177: =VLOOKUP(Table_for_new_list_price[[#This Row],[ItemCode]],[1]sheet1!$1:$1048576,5,FALSE) -> 670779206059 | D177: =VLOOKUP(Table_for_new_list_price[[#This Row],[ItemCode]],[1]sheet1!$1:$1048576,6,FALSE) -> ABGA | E177: =VLOOKUP(Table_for_new_list_price[[#This Row],[ItemCode]],[1]sheet1!$1:$1048576,7,FALSE) -> BRASS AB | F177: =VLOOKUP(Table_for_new_list_price[[#This Row],[ItemCode]],[1]sheet1!$1:$1048576,13,FALSE) -> 0.8 | G177: =VLOOKUP(Table_for_new_list_price[[#This Row],[ItemCode]],[1]sheet1!$1:$1048576,12,FALSE) -> 50 | H177: =VLOOKUP(Table_for_new_list_price[[#This Row],[ItemCode]],[1]sheet1!$1:$1048576,8,FALSE) -> 47.33 | I177: =VLOOKUP(Table_for_new_list_price[[#This Row],[Product Line]],'EDA SHEET'!$C$10:$D$57,2,FALSE) -> 0.313 | J177: =H177*I177 -> 14.81429 | K177: =VLOOKUP(Table_for_new_list_price[[#This Row],[ItemCode]],[1]sheet1!$1:$1048576,11,FALSE) -> Italy
A178: 206AB 4 | B178: =VLOOKUP(Table_for_new_list_price[[#This Row],[ItemCode]],[1]sheet1!$1:$1048576,4,FALSE) -> LOW LEAD GATE IPS | C178: =VLOOKUP(Table_for_new_list_price[[#This Row],[ItemCode]],[1]sheet1!$1:$1048576,5,FALSE) -> 670779206400 | D178: =VLOOKUP(Table_for_new_list_price[[#This Row],[ItemCode]],[1]sheet1!$1:$1048576,6,FALSE) -> ABGA | E178: =VLOOKUP(Table_for_new_list_price[[#This Row],[ItemCode]],[1]sheet1!$1:$1048576,7,FALSE) -> BRASS AB | F178: =VLOOKUP(Table_for_new_list_price[[#This Row],[ItemCode]],[1]sheet1!$1:$1048576,13,FALSE) -> 15.52 | G178: =VLOOKUP(Table_for_new_list_price[[#This Row],[ItemCode]],[1]sheet1!$1:$1048576,12,FALSE) -> 1 | H178: =VLOOKUP(Table_for_new_list_price[[#This Row],[ItemCode]],[1]sheet1!$1:$1048576,8,FALSE) -> 1264.47 | I178: =VLOOKUP(Table_for_new_list_price[[#This Row],[Product Line]],'EDA SHEET'!$C$10:$D$57,2,FALSE) -> 0.313 | J178: =H178*I178 -> 395.77911 | K178: =VLOOKUP(Table_for_new_list_price[[#This Row],[ItemCode]],[1]sheet1!$1:$1048576,11,FALSE) -> Italy
A179: 207AB 1 | B179: =VLOOKUP(Table_for_new_list_price[[#This Row],[ItemCode]],[1]sheet1!$1:$1048576,4,FALSE) -> LOW LEAD GATE CXC | C179: =VLOOKUP(Table_for_new_list_price[[#This Row],[ItemCode]],[1]sheet1!$1:$1048576,5,FALSE) -> 670779207063 | D179: =VLOOKUP(Table_for_new_list_price[[#This Row],[ItemCode]],[1]sheet1!$1:$1048576,6,FALSE) -> ABGA | E179: =VLOOKUP(Table_for_new_list_price[[#This Row],[ItemCode]],[1]sheet1!$1:$1048576,7,FALSE) -> BRASS AB | F179: =VLOOKUP(Table_for_new_list_price[[#This Row],[ItemCode]],[1]sheet1!$1:$1048576,13,FALSE) -> 1.08 | G179: =VLOOKUP(Table_for_new_list_price[[#This Row],[ItemCode]],[1]sheet1!$1:$1048576,12,FALSE) -> 20 | H179: =VLOOKUP(Table_for_new_list_price[[#This Row],[ItemCode]],[1]sheet1!$1:$1048576,8,FALSE) -> 65.86 | I179: =VLOOKUP(Table_for_new_list_price[[#This Row],[Product Line]],'EDA SHEET'!$C$10:$D$57,2,FALSE) -> 0.313 | J179: =H179*I179 -> 20.61418 | K179: =VLOOKUP(Table_for_new_list_price[[#This Row],[ItemCode]],[1]sheet1!$1:$1048576,11,FALSE) -> Italy
... A296: 5084AB 1/4 | B296: =VLOOKUP(Table_for_new_list_price[[#This Row],[ItemCode]],[1]sheet1!$1:$1048576,4,FALSE) -> LOW LEAD MINI BALL FNPTxFNPT | C296: =VLOOKUP(Table_for_new_list_price[[#This Row],[ItemCode]],[1]sheet1!$1:$1048576,5,FALSE) -> 670779428024 | D296: =VLOOKUP(Table_for_new_list_price[[#This Row],[ItemCode]],[1]sheet1!$1:$1048576,6,FALSE) -> ABMN | E296: =VLOOKUP(Table_for_new_list_price[[#This Row],[ItemCode]],[1]sheet1!$1:$1048576,7,FALSE) -> BRASS AB | F296: =VLOOKUP(Table_for_new_list_price[[#This Row],[ItemCode]],[1]sheet1!$1:$1048576,13,FALSE) -> 0.16 | G296: =VLOOKUP(Table_for_new_list_price[[#This Row],[ItemCode]],[1]sheet1!$1:$1048576,12,FALSE) -> 80 | H296: =VLOOKUP(Table_for_new_list_price[[#This Row],[ItemCode]],[1]sheet1!$1:$1048576,8,FALSE) -> 24.48 | I296: =VLOOKUP(Table_for_new_list_price[[#This Row],[Product Line]],'EDA SHEET'!$C$10:$D$57,2,FALSE) -> 0.347 | J296: =H296*I296 -> 8.49456 | K296: =VLOOKUP(Table_for_new_list_price[[#This Row],[ItemCode]],[1]sheet1!$1:$1048576,11,FALSE) -> Italy
A297: 5592AB 1 | B297: =VLOOKUP(Table_for_new_list_price[[#This Row],[ItemCode]],[1]sheet1!$1:$1048576,4,FALSE) -> LOW LEAD BRASS FULL PORT BALL | C297: =VLOOKUP(Table_for_new_list_price[[#This Row],[ItemCode]],[1]sheet1!$1:$1048576,5,FALSE) -> 670779420066 | D297: =VLOOKUP(Table_for_new_list_price[[#This Row],[ItemCode]],[1]sheet1!$1:$1048576,6,FALSE) -> ABNC | E297: =VLOOKUP(Table_for_new_list_price[[#This Row],[ItemCode]],[1]sheet1!$1:$1048576,7,FALSE) -> BRASS AB | F297: =VLOOKUP(Table_for_new_list_price[[#This Row],[ItemCode]],[1]sheet1!$1:$1048576,13,FALSE) -> 0.98 | G297: =VLOOKUP(Table_for_new_list_price[[#This Row],[ItemCode]],[1]sheet1!$1:$1048576,12,FALSE) -> 45 | H297: =VLOOKUP(Table_for_new_list_price[[#This Row],[ItemCode]],[1]sheet1!$1:$1048576,8,FALSE) -> 61.99 | I297: 0.242 | J297: =H297*I297 -> 15.00158 | K297: =VLOOKUP(Table_for_new_list_price[[#This Row],[ItemCode]],[1]sheet1!$1:$1048576,11,FALSE) -> China
A298: 5592AB 1-1/2 | B298: =VLOOKUP(Table_for_new_list_price[[#This Row],[ItemCode]],[1]sheet1!$1:$1048576,4,FALSE) -> LOW LEAD BRASS FULL PORT BALL | C298: =VLOOKUP(Table_for_new_list_price[[#This Row],[ItemCode]],[1]sheet1!$1:$1048576,5,FALSE) -> 670779420080 | D298: =VLOOKUP(Table_for_new_list_price[[#This Row],[ItemCode]],[1]sheet1!$1:$1048576,6,FALSE) -> ABNC | E298: =VLOOKUP(Table_for_new_list_price[[#This Row],[ItemCode]],[1]sheet1!$1:$1048576,7,FALSE) -> BRASS AB | F298: =VLOOKUP(Table_for_new_list_price[[#This Row],[ItemCode]],[1]sheet1!$1:$1048576,13,FALSE) -> 1.88 | G298: =VLOOKUP(Table_for_new_list_price[[#This Row],[ItemCode]],[1]sheet1!$1:$1048576,12,FALSE) -> 24 | H298: =VLOOKUP(Table_for_new_list_price[[#This Row],[ItemCode]],[1]sheet1!$1:$1048576,8,FALSE) -> 122.6 | I298: 0.242 | J298: =H298*I298 -> 29.6692 | K298: =VLOOKUP(Table_for_new_list_price[[#This Row],[ItemCode]],[1]sheet1!$1:$1048576,11,FALSE) -> China
A299: 5592AB 1-1/4 | B299: =VLOOKUP(Table_for_new_list_price[[#This Row],[ItemCode]],[1]sheet1!$1:$1048576,4,FALSE) -> LOW LEAD BRASS FULL PORT BALL | C299: =VLOOKUP(Table_for_new_list_price[[#This Row],[ItemCode]],[1]sheet1!$1:$1048576,5,FALSE) -> 670779420073 | D299: =VLOOKUP(Table_for_new_list_price[[#This Row],[ItemCode]],[1]sheet1!$1:$1048576,6,FALSE) -> ABNC | E299: =VLOOKUP(Table_for_new_list_price[[#This Row],[ItemCode]],[1]sheet1!$1:$1048576,7,FALSE) -> BRASS AB | F299: =VLOOKUP(Table_for_new_list_price[[#This Row],[ItemCode]],[1]sheet1!$1:$1048576,13,FALSE) -> 1.34 | G299: =VLOOKUP(Table_for_new_list_price[[#This Row],[ItemCode]],[1]sheet1!$1:$1048576,12,FALSE) -> 30 | H299: =VLOOKUP(Table_for_new_list_price[[#This Row],[ItemCode]],[1]sheet1!$1:$1048576,8,FALSE) -> 90.04 | I299: 0.242 | J299: =H299*I299 -> 21.78968 | K299: =VLOOKUP(Table_for_new_list_price[[#This Row],[ItemCode]],[1]sheet1!$1:$1048576,11,FALSE) -> China
A300: 5592AB 1/2 | B300: =VLOOKUP(Table_for_new_list_price[[#This Row],[ItemCode]],[1]sheet1!$1:$1048576,4,FALSE) -> LOW LEAD BRASS FULL PORT BALL | C300: =VLOOKUP(Table_for_new_list_price[[#This Row],[ItemCode]],[1]sheet1!$1:$1048576,5,FALSE) -> 670779420042 | D300: =VLOOKUP(Table_for_new_list_price[[#This Row],[ItemCode]],[1]sheet1!$1:$1048576,6,FALSE) -> ABNC | E300: =VLOOKUP(Table_for_new_list_price[[#This Row],[ItemCode]],[1]sheet1!$1:$1048576,7,FALSE) -> BRASS AB | F300: =VLOOKUP(Table_for_new_list_price[[#This Row],[ItemCode]],[1]sheet1!$1:$1048576,13,FALSE) -> 0.4 | G300: =VLOOKUP(Table_for_new_list_price[[#This Row],[ItemCode]],[1]sheet1!$1:$1048576,12,FALSE) -> 80 | H300: =VLOOKUP(Table_for_new_list_price[[#This Row],[ItemCode]],[1]sheet1!$1:$1048576,8,FALSE) -> 24.85 | I300: 0.242 | J300: =H300*I300 -> 6.0137 | K300: =VLOOKUP(Table_for_new_list_price[[#This Row],[ItemCode]],[1]sheet1!$1:$1048576,11,FALSE) -> China
...

Sheet QUOTE FORM
B1: RED-WHITE VALVE CORP. 20600 Regency Lane - Lake Forest CA. 92630
E2: Phone 949-859-1010 / Fax 949-859-7200
A3: Company: | B3: ='EDA SHEET'!B3 -> Falls Plumbing | E3: Quoted By: | L3: Date | M3: =TODAY() -> 46268
A4: Attention: | E4: Email: | L4: Price List | M4: 46174
A5: Phone: | E5: Quote #
A6: Inquiry# | E6: Revision #
A7: QTY | B7: Item Code | C7: Description | D7: UPC | E7: Product Line | F7: UDF Material | G7: Item Weight | H7: Carton Qty | I7: List Price | J7: Multiplier | K7: Net | L7: Origin | M7: Line Total
C9: =VLOOKUP(B9,'PRICE LIST'!A:B,2,FALSE) -> #N/A | D9: =VLOOKUP(B9,'PRICE LIST'!A:C,3,FALSE) -> #N/A | E9: =VLOOKUP(B9,'PRICE LIST'!A:D,4,FALSE) -> #N/A | F9: =VLOOKUP(B9,'PRICE LIST'!A:E,5,FALSE) -> #N/A | G9: =VLOOKUP(B9,'PRICE LIST'!A:F,6,FALSE) -> #N/A | H9: =VLOOKUP(B9,'PRICE LIST'!A:G,7,FALSE) -> #N/A | I9: =VLOOKUP(B9,'PRICE LIST'!A:H,8,FALSE) -> #N/A | J9: =VLOOKUP(B9,'PRICE LIST'!A:I,9,FALSE) -> #N/A | K9: =ROUND(I9*J9,2) -> #N/A | L9: =VLOOKUP(B9,'PRICE LIST'!A:K,11,FALSE) -> #N/A | M9: =A9*K9 -> #N/A
C10: =VLOOKUP(B10,'PRICE LIST'!A:B,2,FALSE) -> #N/A | D10: =VLOOKUP(B10,'PRICE LIST'!A:C,3,FALSE) -> #N/A | E10: =VLOOKUP(B10,'PRICE LIST'!A:D,4,FALSE) -> #N/A | F10: =VLOOKUP(B10,'PRICE LIST'!A:E,5,FALSE) -> #N/A | G10: =VLOOKUP(B10,'PRICE LIST'!A:F,6,FALSE) -> #N/A | H10: =VLOOKUP(B10,'PRICE LIST'!A:G,7,FALSE) -> #N/A | I10: =VLOOKUP(B10,'PRICE LIST'!A:H,8,FALSE) -> #N/A | J10: =VLOOKUP(B10,'PRICE LIST'!A:I,9,FALSE) -> #N/A | K10: =ROUND(I10*J10,2) -> #N/A | L10: =VLOOKUP(B10,'PRICE LIST'!A:K,11,FALSE) -> #N/A | M10: =A10*K10 -> #N/A
C11: =VLOOKUP(B11,'PRICE LIST'!A:B,2,FALSE) -> #N/A | D11: =VLOOKUP(B11,'PRICE LIST'!A:C,3,FALSE) -> #N/A | E11: =VLOOKUP(B11,'PRICE LIST'!A:D,4,FALSE) -> #N/A | F11: =VLOOKUP(B11,'PRICE LIST'!A:E,5,FALSE) -> #N/A | G11: =VLOOKUP(B11,'PRICE LIST'!A:F,6,FALSE) -> #N/A | H11: =VLOOKUP(B11,'PRICE LIST'!A:G,7,FALSE) -> #N/A | I11: =VLOOKUP(B11,'PRICE LIST'!A:H,8,FALSE) -> #N/A | J11: =VLOOKUP(B11,'PRICE LIST'!A:I,9,FALSE) -> #N/A | K11: =ROUND(I11*J11,2) -> #N/A | L11: =VLOOKUP(B11,'PRICE LIST'!A:K,11,FALSE) -> #N/A | M11: =A11*K11 -> #N/A
C12: =VLOOKUP(B12,'PRICE LIST'!A:B,2,FALSE) -> #N/A | D12: =VLOOKUP(B12,'PRICE LIST'!A:C,3,FALSE) -> #N/A | E12: =VLOOKUP(B12,'PRICE LIST'!A:D,4,FALSE) -> #N/A | F12: =VLOOKUP(B12,'PRICE LIST'!A:E,5,FALSE) -> #N/A | G12: =VLOOKUP(B12,'PRICE LIST'!A:F,6,FALSE) -> #N/A | H12: =VLOOKUP(B12,'PRICE LIST'!A:G,7,FALSE) -> #N/A | I12: =VLOOKUP(B12,'PRICE LIST'!A:H,8,FALSE) -> #N/A | J12: =VLOOKUP(B12,'PRICE LIST'!A:I,9,FALSE) -> #N/A | K12: =ROUND(I12*J12,2) -> #N/A | L12: =VLOOKUP(B12,'PRICE LIST'!A:K,11,FALSE) -> #N/A | M12: =A12*K12 -> #N/A
C13: =VLOOKUP(B13,'PRICE LIST'!A:B,2,FALSE) -> #N/A | D13: =VLOOKUP(B13,'PRICE LIST'!A:C,3,FALSE) -> #N/A | E13: =VLOOKUP(B13,'PRICE LIST'!A:D,4,FALSE) -> #N/A | F13: =VLOOKUP(B13,'PRICE LIST'!A:E,5,FALSE) -> #N/A | G13: =VLOOKUP(B13,'PRICE LIST'!A:F,6,FALSE) -> #N/A | H13: =VLOOKUP(B13,'PRICE LIST'!A:G,7,FALSE) -> #N/A | I13: =VLOOKUP(B13,'PRICE LIST'!A:H,8,FALSE) -> #N/A | J13: =VLOOKUP(B13,'PRICE LIST'!A:I,9,FALSE) -> #N/A | K13: =ROUND(I13*J13,2) -> #N/A | L13: =VLOOKUP(B13,'PRICE LIST'!A:K,11,FALSE) -> #N/A | M13: =A13*K13 -> #N/A
C14: =VLOOKUP(B14,'PRICE LIST'!A:B,2,FALSE) -> #N/A | D14: =VLOOKUP(B14,'PRICE LIST'!A:C,3,FALSE) -> #N/A | E14: =VLOOKUP(B14,'PRICE LIST'!A:D,4,FALSE) -> #N/A | F14: =VLOOKUP(B14,'PRICE LIST'!A:E,5,FALSE) -> #N/A | G14: =VLOOKUP(B14,'PRICE LIST'!A:F,6,FALSE) -> #N/A | H14: =VLOOKUP(B14,'PRICE LIST'!A:G,7,FALSE) -> #N/A | I14: =VLOOKUP(B14,'PRICE LIST'!A:H,8,FALSE) -> #N/A | J14: =VLOOKUP(B14,'PRICE LIST'!A:I,9,FALSE) -> #N/A | K14: =ROUND(I14*J14,2) -> #N/A | L14: =VLOOKUP(B14,'PRICE LIST'!A:K,11,FALSE) -> #N/A | M14: =A14*K14 -> #N/A
C15: =VLOOKUP(B15,'PRICE LIST'!A:B,2,FALSE) -> #N/A | D15: =VLOOKUP(B15,'PRICE LIST'!A:C,3,FALSE) -> #N/A | E15: =VLOOKUP(B15,'PRICE LIST'!A:D,4,FALSE) -> #N/A | F15: =VLOOKUP(B15,'PRICE LIST'!A:E,5,FALSE) -> #N/A | G15: =VLOOKUP(B15,'PRICE LIST'!A:F,6,FALSE) -> #N/A | H15: =VLOOKUP(B15,'PRICE LIST'!A:G,7,FALSE) -> #N/A | I15: =VLOOKUP(B15,'PRICE LIST'!A:H,8,FALSE) -> #N/A | J15: =VLOOKUP(B15,'PRICE LIST'!A:I,9,FALSE) -> #N/A | K15: =ROUND(I15*J15,2) -> #N/A | L15: =VLOOKUP(B15,'PRICE LIST'!A:K,11,FALSE) -> #N/A | M15: =A15*K15 -> #N/A
C16: =VLOOKUP(B16,'PRICE LIST'!A:B,2,FALSE) -> #N/A | D16: =VLOOKUP(B16,'PRICE LIST'!A:C,3,FALSE) -> #N/A | E16: =VLOOKUP(B16,'PRICE LIST'!A:D,4,FALSE) -> #N/A | F16: =VLOOKUP(B16,'PRICE LIST'!A:E,5,FALSE) -> #N/A | G16: =VLOOKUP(B16,'PRICE LIST'!A:F,6,FALSE) -> #N/A | H16: =VLOOKUP(B16,'PRICE LIST'!A:G,7,FALSE) -> #N/A | I16: =VLOOKUP(B16,'PRICE LIST'!A:H,8,FALSE) -> #N/A | J16: =VLOOKUP(B16,'PRICE LIST'!A:I,9,FALSE) -> #N/A | K16: =ROUND(I16*J16,2) -> #N/A | L16: =VLOOKUP(B16,'PRICE LIST'!A:K,11,FALSE) -> #N/A | M16: =A16*K16 -> #N/A
C17: =VLOOKUP(B17,'PRICE LIST'!A:B,2,FALSE) -> #N/A | D17: =VLOOKUP(B17,'PRICE LIST'!A:C,3,FALSE) -> #N/A | E17: =VLOOKUP(B17,'PRICE LIST'!A:D,4,FALSE) -> #N/A | F17: =VLOOKUP(B17,'PRICE LIST'!A:E,5,FALSE) -> #N/A | G17: =VLOOKUP(B17,'PRICE LIST'!A:F,6,FALSE) -> #N/A | H17: =VLOOKUP(B17,'PRICE LIST'!A:G,7,FALSE) -> #N/A | I17: =VLOOKUP(B17,'PRICE LIST'!A:H,8,FALSE) -> #N/A | J17: =VLOOKUP(B17,'PRICE LIST'!A:I,9,FALSE) -> #N/A | K17: =ROUND(I17*J17,2) -> #N/A | L17: =VLOOKUP(B17,'PRICE LIST'!A:K,11,FALSE) -> #N/A | M17: =A17*K17 -> #N/A
C18: =VLOOKUP(B18,'PRICE LIST'!A:B,2,FALSE) -> #N/A | D18: =VLOOKUP(B18,'PRICE LIST'!A:C,3,FALSE) -> #N/A | E18: =VLOOKUP(B18,'PRICE LIST'!A:D,4,FALSE) -> #N/A | F18: =VLOOKUP(B18,'PRICE LIST'!A:E,5,FALSE) -> #N/A | G18: =VLOOKUP(B18,'PRICE LIST'!A:F,6,FALSE) -> #N/A | H18: =VLOOKUP(B18,'PRICE LIST'!A:G,7,FALSE) -> #N/A | I18: =VLOOKUP(B18,'PRICE LIST'!A:H,8,FALSE) -> #N/A | J18: =VLOOKUP(B18,'PRICE LIST'!A:I,9,FALSE) -> #N/A | K18: =ROUND(I18*J18,2) -> #N/A | L18: =VLOOKUP(B18,'PRICE LIST'!A:K,11,FALSE) -> #N/A | M18: =A18*K18 -> #N/A
C19: =VLOOKUP(B19,'PRICE LIST'!A:B,2,FALSE) -> #N/A | D19: =VLOOKUP(B19,'PRICE LIST'!A:C,3,FALSE) -> #N/A | E19: =VLOOKUP(B19,'PRICE LIST'!A:D,4,FALSE) -> #N/A | F19: =VLOOKUP(B19,'PRICE LIST'!A:E,5,FALSE) -> #N/A | G19: =VLOOKUP(B19,'PRICE LIST'!A:F,6,FALSE) -> #N/A | H19: =VLOOKUP(B19,'PRICE LIST'!A:G,7,FALSE) -> #N/A | I19: =VLOOKUP(B19,'PRICE LIST'!A:H,8,FALSE) -> #N/A | J19: =VLOOKUP(B19,'PRICE LIST'!A:I,9,FALSE) -> #N/A | K19: =ROUND(I19*J19,2) -> #N/A | L19: =VLOOKUP(B19,'PRICE LIST'!A:K,11,FALSE) -> #N/A | M19: =A19*K19 -> #N/A
C20: =VLOOKUP(B20,'PRICE LIST'!A:B,2,FALSE) -> #N/A | D20: =VLOOKUP(B20,'PRICE LIST'!A:C,3,FALSE) -> #N/A | E20: =VLOOKUP(B20,'PRICE LIST'!A:D,4,FALSE) -> #N/A | F20: =VLOOKUP(B20,'PRICE LIST'!A:E,5,FALSE) -> #N/A | G20: =VLOOKUP(B20,'PRICE LIST'!A:F,6,FALSE) -> #N/A | H20: =VLOOKUP(B20,'PRICE LIST'!A:G,7,FALSE) -> #N/A | I20: =VLOOKUP(B20,'PRICE LIST'!A:H,8,FALSE) -> #N/A | J20: =VLOOKUP(B20,'PRICE LIST'!A:I,9,FALSE) -> #N/A | K20: =ROUND(I20*J20,2) -> #N/A | L20: =VLOOKUP(B20,'PRICE LIST'!A:K,11,FALSE) -> #N/A | M20: =A20*K20 -> #N/A
... C41: =VLOOKUP(B41,'PRICE LIST'!A:B,2,FALSE) -> #N/A | D41: =VLOOKUP(B41,'PRICE LIST'!A:C,3,FALSE) -> #N/A | E41: =VLOOKUP(B41,'PRICE LIST'!A:D,4,FALSE) -> #N/A | F41: =VLOOKUP(B41,'PRICE LIST'!A:E,5,FALSE) -> #N/A | G41: =VLOOKUP(B41,'PRICE LIST'!A:F,6,FALSE) -> #N/A | H41: =VLOOKUP(B41,'PRICE LIST'!A:G,7,FALSE) -> #N/A | I41: =VLOOKUP(B41,'PRICE LIST'!A:H,8,FALSE) -> #N/A | J41: =VLOOKUP(B41,'PRICE LIST'!A:I,9,FALSE) -> #N/A | K41: =ROUND(I41*J41,2) -> #N/A | L41: =VLOOKUP(B41,'PRICE LIST'!A:K,11,FALSE) -> #N/A | M41: =A41*K41 -> #N/A
A43: * Quote Valid for 30 days. All items subject to prior sale. Copy of quote should accompany PO to insure correct pricing. | L43: Total | M43: =SUM(M9:M42) -> #N/A
